BEGIN:VCALENDAR
VERSION:2.0
PRODID:-//Eventin//Event Calendar//EN
CALSCALE:GREGORIAN
METHOD:PUBLISH
BEGIN:VEVENT
UID:c42156ad77f4dc25fec1c3e385e13e00@acambng.org
SUMMARY:3rd National Stakeholders Conference 2024
DESCRIPTION:
LOCATION:CIBN Bankers House\, Adeola Hopewell Street\, VI Lagos
DTSTAMP:20260420T020813Z
DTSTART:20240530T090000Z
DTEND:20260420T140000Z
END:VEVENT
END:VCALENDAR
